BEGIN:VCALENDAR
VERSION:2.0
PRODID:-//Squarespace Inc/Squarespace 6//v6//EN
BEGIN:VEVENT
UID:55513436e4b0872f41a3ed55@squarespace.com
DTSTAMP:20150511T231935Z
DTSTART:20150605T230000Z
DTEND:20150606T030000Z
SUMMARY:Joseph & Maia LIVE
END:VEVENT
END:VCALENDAR
