BEGIN:VCALENDAR
VERSION:2.0
PRODID:-//Squarespace Inc/Squarespace 6//v6//EN
BEGIN:VEVENT
UID:55cb1d2ae4b0a654d64b04fc@squarespace.com
DTSTAMP:20150812T102407Z
DTSTART:20150821T230000Z
DTEND:20150822T030000Z
SUMMARY:Phil & Tilley with Looking for Alaska
END:VEVENT
END:VCALENDAR
